BEGIN:VCALENDAR
VERSION:2.0
PRODID:-//hacksw/handcal//NONSGML v1.0//EN
CALSCALE:GREGORIAN
BEGIN:VTIMEZONE
TZID:America/Chicago
BEGIN:DAYLIGHT
TZOFFSETFROM:-0600
TZNAME:MDT
TZOFFSETTO:-0600
END:DAYLIGHT
END:VTIMEZONE
DTSTAMP:20260424T065025Z
UID:69eb5901e2da0
BEGIN:VEVENT
LOCATION:Austin Memorial Library, 220 S. Bonham Ave., Cleveland, TX US 77327
DESCRIPTION:<p>Full details will be posted later. &nbsp;Attendance is limited and those wishing to attend must register.</p>
DTSTART;TZID=America/Chicago:20260714T180000
DTEND;TZID=America/Chicago:20260714T200000
SUMMARY:Evening with the Authors
URL;VALUE=URI:/evening-authors-0
END:VEVENT
END:VCALENDAR